BEGIN:VCALENDAR
VERSION:2.0
PRODID:-//Plone.org//NONSGML plone.app.event//EN
X-WR-TIMEZONE:Europe/Rome
BEGIN:VEVENT
SUMMARY:Adaptation to Extreme events in a hotter climate
DTSTART;TZID=Europe/Rome;VALUE=DATE-TIME:20191008T090000
DTEND;TZID=Europe/Rome;VALUE=DATE-TIME:20191009T130000
DTSTAMP;VALUE=DATE-TIME:20260424T211658Z
UID:039a4a6bc6b548fdb8f29663b95cfdad@www.arpae.it
CREATED;VALUE=DATE-TIME:20190910T090630Z
DESCRIPTION:Conferenza su misure di adattamento per affrontare eventi estr
 emi\, siccità e inondazioni a causa di cambiamenti nel clima
LAST-MODIFIED;VALUE=DATE-TIME:20211121T200141Z
URL:https://www.arpae.it/it/eventi/2019/adaptation-to-extreme-events-in-a-
 hotter-climate
END:VEVENT
BEGIN:VTIMEZONE
TZID:Europe/Rome
X-LIC-LOCATION:Europe/Rome
BEGIN:DAYLIGHT
DTSTART;VALUE=DATE-TIME:20190331T030000
TZNAME:CEST
TZOFFSETFROM:+0100
TZOFFSETTO:+0200
END:DAYLIGHT
END:VTIMEZONE
END:VCALENDAR
